BEGIN:VCALENDAR
VERSION:2.0
PRODID:icalendar-ruby
CALSCALE:GREGORIAN
METHOD:PUBLISH
BEGIN:VEVENT
DTSTAMP:20260421T120939Z
UID:76-570231@unitedinfaith.church
DTSTART:20260517T170000Z
DTEND:20260517T190000Z
CLASS:PUBLIC
CREATED:20260417T093050
DESCRIPTION:
LAST-MODIFIED:20260417T093050
LOCATION:
SUMMARY:Worship Training
URL;VALUE=URI:https://www.unitedinfaith.church/events/worship-training/2026
 -05-17
END:VEVENT
END:VCALENDAR
