BEGIN:VCALENDAR
VERSION:2.0
PRODID:icalendar-ruby
CALSCALE:GREGORIAN
METHOD:PUBLISH
BEGIN:VEVENT
DTSTAMP:20260421T231450Z
UID:73-580284@unitedinfaith.church
DTSTART:20261203T003000Z
DTEND:20261203T013000Z
CLASS:PUBLIC
CREATED:20260421T094340
DESCRIPTION:This is a time for us to gather together in prayer for one anot
 her in a small group\, and then come back to pray as a whole.
LAST-MODIFIED:20260421T094340
LOCATION:United in Faith Christian Church
SUMMARY:Night of Prayer
URL;VALUE=URI:https://www.unitedinfaith.church/events/night-of-prayer--73/2
 026-12-02
END:VEVENT
END:VCALENDAR
