BEGIN:VCALENDAR
VERSION:2.0
PRODID:icalendar-ruby
CALSCALE:GREGORIAN
METHOD:PUBLISH
BEGIN:VEVENT
DTSTAMP:20260419T220840Z
UID:61-570223@unitedinfaith.church
DTSTART:20261001T140000Z
DTEND:20261001T150000Z
CLASS:PUBLIC
CREATED:20260417T092335
DESCRIPTION:Diving Deeper - Women's Bible study is studying the book of Dan
 iel using the Precept bible study.
LAST-MODIFIED:20260417T092335
LOCATION:United in Faith Christian Church\, 1530 Illinois Ave.\, Murphysbor
 o\, IL
SUMMARY:Diving Deeper - Women's Bible study
URL;VALUE=URI:https://www.unitedinfaith.church/events/diving-deeper-womens-
 bible-study/2026-10-01
END:VEVENT
END:VCALENDAR
